BEGIN:VCALENDAR
VERSION:2.0
PRODID:New Albany CHA, IN Calendar Creator
METHOD:PUBLISH
BEGIN:VEVENT
DTSTAMP:20260413T095128
DTSTART:20260422T000000
DTEND:20260422T235900
SUMMARY:Games with Janet
DESCRIPTION:<h2 style="text-align: center;">Come on out to the Mark Elrod community room every Friday for games with Janet</h2>
X-ALT-DESC;FMTTYPE=text/html:<h2 style="text-align: center;">Come on out to the Mark Elrod community room every Friday for games with Janet</h2>
LOCATION:Mark Elrod Towers\, 1 Wolfe Trace New Albany\, Indiana 47150
CLASS:PUBLIC
END:VEVENT
END:VCALENDAR
