BEGIN:VCALENDAR
VERSION:2.0
PRODID:New Albany CHA, IN Calendar Creator
METHOD:PUBLISH
BEGIN:VEVENT
DTSTAMP:20260413T095007
DTSTART:20260421T120000
DTEND:20260421T130000
SUMMARY:Shoreline Villas Crafty Creations
DESCRIPTION:
X-ALT-DESC;FMTTYPE=text/html:
LOCATION:Beechwood Community Space\, 2100 MacArthur Drive New Albany\, Indiana 47150
CLASS:PUBLIC
END:VEVENT
END:VCALENDAR
