BEGIN:VCALENDAR
VERSION:2.0
PRODID:New Albany CHA, IN Calendar Creator
METHOD:PUBLISH
BEGIN:VEVENT
DTSTAMP:20260413T093242
DTSTART:20260514T120000
DTEND:20260514T130000
SUMMARY:EnVision Center Crafty Creations
DESCRIPTION:
X-ALT-DESC;FMTTYPE=text/html:
LOCATION:EnVision Campus\, 211 Erni Avenue New Albany\, Indiana 47150
CLASS:PUBLIC
END:VEVENT
END:VCALENDAR
