BEGIN:VCALENDAR
VERSION:2.0
PRODID:New Albany CHA, IN Calendar Creator
METHOD:PUBLISH
BEGIN:VEVENT
DTSTAMP:20260415T070339
DTSTART:20260519T120000
DTEND:20260519T130000
SUMMARY:May Flowers Spring Opportunities with STEP Up
DESCRIPTION:<h2 style="text-align: center;">&nbsp;</h2>
X-ALT-DESC;FMTTYPE=text/html:<h2 style="text-align: center;">&nbsp;</h2>
LOCATION:EnVision Campus\, 211 Erni Avenue New Albany\, Indiana 47150
CLASS:PUBLIC
END:VEVENT
END:VCALENDAR
