BEGIN:VCALENDAR
VERSION:2.0
PRODID:New Albany CHA, IN Calendar Creator
METHOD:PUBLISH
BEGIN:VEVENT
DTSTAMP:20260413T091509
DTSTART:20260507T120000
DTEND:20260507T130000
SUMMARY:Beechwood Crafty Creations
DESCRIPTION:&nbsp;
X-ALT-DESC;FMTTYPE=text/html:&nbsp;
LOCATION:Beechwood Community Space\, 2100 
CLASS:PUBLIC
END:VEVENT
END:VCALENDAR
