BEGIN:VCALENDAR
VERSION:2.0
PRODID:New Albany CHA, IN Calendar Creator
METHOD:PUBLISH
BEGIN:VEVENT
DTSTAMP:20260413T085641
DTSTART:20260421T120000
DTEND:20260421T130000
SUMMARY:Walk and Exercise with Willa
DESCRIPTION:<h2 style="text-align: center;">Come on out to the Mark Elrod community room to join Willa and neighbors for some light exercise and fun!</h2>
X-ALT-DESC;FMTTYPE=text/html:<h2 style="text-align: center;">Come on out to the Mark Elrod community room to join Willa and neighbors for some light exercise and fun!</h2>
LOCATION:Mark Elrod Towers\, 1 Wolfe Trace New Albany\, Indiana 47150
CLASS:PUBLIC
END:VEVENT
END:VCALENDAR
