BEGIN:VCALENDAR
VERSION:2.0
PRODID:New Albany CHA, IN Calendar Creator
METHOD:PUBLISH
BEGIN:VEVENT
DTSTAMP:20260203T100835
DTSTART:20261103T000000
DTEND:20261103T235900
SUMMARY:OFFICE CLOSED- Election Day
DESCRIPTION:<h2 style="text-align: center;">ALL NAHA OFFICES WILL BE CLOSED 11/3/26 IN HONOR OF ELECTION DAY</h2>
X-ALT-DESC;FMTTYPE=text/html:<h2 style="text-align: center;">ALL NAHA OFFICES WILL BE CLOSED 11/3/26 IN HONOR OF ELECTION DAY</h2>
LOCATION:
CLASS:PUBLIC
END:VEVENT
END:VCALENDAR
