BEGIN:VCALENDAR
VERSION:2.0
PRODID:New Albany CHA, IN Calendar Creator
METHOD:PUBLISH
BEGIN:VEVENT
DTSTAMP:20260203T100414
DTSTART:20260703T000000
DTEND:20260703T235900
SUMMARY:OFFICE CLOSED- Independence Day
DESCRIPTION:<h2 style="text-align: center;">ALL NAHA OFFICES WILL BE CLOSED 7/3/26 IN HONOR OF INDEPENDENCE DAY</h2>
X-ALT-DESC;FMTTYPE=text/html:<h2 style="text-align: center;">ALL NAHA OFFICES WILL BE CLOSED 7/3/26 IN HONOR OF INDEPENDENCE DAY</h2>
LOCATION:
CLASS:PUBLIC
END:VEVENT
END:VCALENDAR
