BEGIN:VCALENDAR
VERSION:2.0
PRODID:New Albany CHA, IN Calendar Creator
METHOD:PUBLISH
BEGIN:VEVENT
DTSTAMP:20260203T095912
DTSTART:20260505T000000
DTEND:20260505T235900
SUMMARY:OFFICE CLOSED- Primary Election Day
DESCRIPTION:<h2 style="text-align: center;">ALL NAHA OFFICES WILL BE CLOSED 5/5/26 IN HONOR OF PRIMARY ELECTION DAY</h2>
X-ALT-DESC;FMTTYPE=text/html:<h2 style="text-align: center;">ALL NAHA OFFICES WILL BE CLOSED 5/5/26 IN HONOR OF PRIMARY ELECTION DAY</h2>
LOCATION:
CLASS:PUBLIC
END:VEVENT
END:VCALENDAR
