BEGIN:VCALENDAR
VERSION:2.0
PRODID:New Albany CHA, IN Calendar Creator
METHOD:PUBLISH
BEGIN:VEVENT
DTSTAMP:20260129T095730
DTSTART:20260617T160000
DTEND:20260617T170000
SUMMARY:NAHA Board of Commissioners Meeting
DESCRIPTION:<h2 dir="ltr" style="text-align: center;">Regularly scheduled meeting of New Albany Housing Authority's Board of Commissioners. Open to the public.&nbsp;</h2><h3 dir="ltr" style="text-align: center;">Residents encouraged to attend.</h3>
X-ALT-DESC;FMTTYPE=text/html:<h2 dir="ltr" style="text-align: center;">Regularly scheduled meeting of New Albany Housing Authority's Board of Commissioners. Open to the public.&nbsp;</h2><h3 dir="ltr" style="text-align: center;">Residents encouraged to attend.</h3>
LOCATION:300 Building\, 300 Erni Avenue New Albany\, Indiana 47150
CLASS:PUBLIC
END:VEVENT
END:VCALENDAR
